BEGIN:VCALENDAR
VERSION:2.0
PRODID:-//Woman Who - ECPv6.15.20//NONSGML v1.0//EN
CALSCALE:GREGORIAN
METHOD:PUBLISH
X-WR-CALNAME:Woman Who
X-ORIGINAL-URL:https://womanwho.co.uk
X-WR-CALDESC:Events for Woman Who
REFRESH-INTERVAL;VALUE=DURATION:PT1H
X-Robots-Tag:noindex
X-PUBLISHED-TTL:PT1H
BEGIN:VTIMEZONE
TZID:Europe/London
BEGIN:DAYLIGHT
TZOFFSETFROM:+0000
TZOFFSETTO:+0100
TZNAME:BST
DTSTART:20190331T010000
END:DAYLIGHT
BEGIN:STANDARD
TZOFFSETFROM:+0100
TZOFFSETTO:+0000
TZNAME:GMT
DTSTART:20191027T010000
END:STANDARD
BEGIN:DAYLIGHT
TZOFFSETFROM:+0000
TZOFFSETTO:+0100
TZNAME:BST
DTSTART:20200329T010000
END:DAYLIGHT
BEGIN:STANDARD
TZOFFSETFROM:+0100
TZOFFSETTO:+0000
TZNAME:GMT
DTSTART:20201025T010000
END:STANDARD
BEGIN:DAYLIGHT
TZOFFSETFROM:+0000
TZOFFSETTO:+0100
TZNAME:BST
DTSTART:20210328T010000
END:DAYLIGHT
BEGIN:STANDARD
TZOFFSETFROM:+0100
TZOFFSETTO:+0000
TZNAME:GMT
DTSTART:20211031T010000
END:STANDARD
BEGIN:DAYLIGHT
TZOFFSETFROM:+0000
TZOFFSETTO:+0100
TZNAME:BST
DTSTART:20220327T010000
END:DAYLIGHT
BEGIN:STANDARD
TZOFFSETFROM:+0100
TZOFFSETTO:+0000
TZNAME:GMT
DTSTART:20221030T010000
END:STANDARD
END:VTIMEZONE
BEGIN:VEVENT
DTSTART;TZID=Europe/London:20210510T093000
DTEND;TZID=Europe/London:20210510T110000
DTSTAMP:20260424T162108
CREATED:20210223T162146Z
LAST-MODIFIED:20210412T203822Z
UID:14232-1620639000-1620644400@womanwho.co.uk
SUMMARY:Woman Who Inspires Network (May)
DESCRIPTION:The Woman Who Inspires Online Network is a monthly event where you can network\, be inspired and learn something new. \n‘Although I will soon be back to hosting face to face events\, I wanted to continue with the online monthly events. So my events will be coming to a region near you in the not too distant future but I still want to enable you to connect and network nationally. It’s these connections that are so important and just one of the hidden gems about being part of the Woman Who Community.‘ Sandra Garlick MBE\, Founder of Woman Who \nMay’s theme is Purpose\, Passion & Vision. Are you fulfilling your purpose\, delivering something you’re truly passionate about and working in accordance with your vision? \nWhy not register to join us and make new connections\, learn something new and meet great inspirational women in business. \nThe online network is open to all women in business\, including those who have taken a career break\, or maybe looking for a fresh challenge. Men in business are also very welcome to attend. \nThere is no membership or criteria to attend. Attendees simply book to attend each event. \n9.30am  Arrival and Small Group Zoom Room Networking\, followed by introductions hosted by Sandra Garlick MBE\, Founder of Woman Who\, Speaker and Author. \n10.00am Women in Business Speakers: Mel Stanley and Amanda Harris \nInterview:  Featuring Kameese Davis\, Founder of Nylah (as recently featured on Dragon’s Den-see below) \n11.00am Close \nThere will be a chance to post your website and social links in the chat box. \nJoin the Woman Who Community on Facebook
URL:https://womanwho.co.uk/event/woman-who-inspires-network-may/
CATEGORIES:Networking
LOCATION:https://womanwho.co.uk/event/woman-who-inspires-network-may/
END:VEVENT
BEGIN:VEVENT
DTSTART;TZID=Europe/London:20210412T093000
DTEND;TZID=Europe/London:20210412T110000
DTSTAMP:20260424T162108
CREATED:20210206T170553Z
LAST-MODIFIED:20210407T193030Z
UID:12802-1618219800-1618225200@womanwho.co.uk
SUMMARY:Woman Who Inspires Online Network (April)
DESCRIPTION:The Woman Who Inspires Online Network is a monthly event where you can network\, be inspired and learn something new. \n‘At the start of lockdown\, I realised that I could no longer hold face-to-face events so I set up the monthly online network. I made the event free to attend to make it accessible to as many women in business as possible. It’s a chance to network and make new connections nationwide\, be inspired by our speakers and learn something new.‘ Sandra Garlick MBE\, Founder of Woman Who \nApril’s theme is Communication. How do you communicate? \nSo why not register to join us and make new connections\, learn something new and meet great inspirational women in business. \nThe online network is open to all women in business\, including those who have taken a career break\, or may be looking for a fresh challenge. Men in business are also very welcome to attend. \nThere is no membership or criteria to attend. Attendees simply book to attend each event. \n9.30am  Arrival and Small Group Zoom Room Networking\, followed by introductions hosted by Sandra Garlick MBE\, Founder of Woman Who\, Speaker and Author. \n10.00am Women in Business Speaker: Andrea de Gabriel\, Andrea de Gabriel Portrait Photography \nPanel:  Abbi Head\, Amanda Harris & Claire Cahill \n11.00am Close \nThere will be a chance to post your contact details\, website and social links in the chat box. \n \nDelivered in partnership with the FSB and Alsters Kelley Solicitors
URL:https://womanwho.co.uk/event/woman-who-inspires-online-network-april-2/
CATEGORIES:Networking
LOCATION:https://womanwho.co.uk/event/woman-who-inspires-online-network-april-2/
END:VEVENT
BEGIN:VEVENT
DTSTART;TZID=Europe/London:20210308T093000
DTEND;TZID=Europe/London:20210308T110000
DTSTAMP:20260424T162108
CREATED:20201029T105240Z
LAST-MODIFIED:20210225T215354Z
UID:11257-1615195800-1615201200@womanwho.co.uk
SUMMARY:Woman Who Inspires Online Network Celebrating International Women's Day 2021
DESCRIPTION:Join us at the Woman Who Inspires Online Network celebrating International Women’s Day 2021 and the launch of ‘I Am A Woman Who (2021 Edition)‘\n \nThe IWD 2021 campaign theme is:\nA challenged world is an alert world. \nAnd from challenge comes change. \nSo choose to challenge! \nRead more here about the IWD 2021 theme #ChoosetoChallenge #IWD2021 \n  \nSo register to join us and make new connections\, learn something new and met great inspirational women in business. \nPlus you’ll get to network nationwide! \nHear from our inspirational speakers who have all contributed their story to I Am A Woman Who (2021 Edition). You can read more about the book HERE \nThe online network is open to all women in business\, including those who have taken a career break\, or may be looking for a fresh challenge. Men in business are also very welcome to attend. \nThere is no membership or criteria to attend. Attendees simply book to attend each event. \n9.30am  Arrival and Small Group Networking\, followed by introductions hosted by Sandra Garlick MBE\, Founder of Woman Who\, Speaker and Author. \n9.45am  Welcome and Introductions \n10.00am Women in Business Panel: Sandra Garlick MBE\, Claire Cahill and Sue Burton. \nWomen in Business Interviews with the contributors to I Am A Woman Who 2021. \n11.00am Close \nThere will be a chance to post your social links in the chat box. \nThere will also be an opportunity to pre-order your signed copy of ‘I Am A Woman Who 2021‘ HERE  If you would like it signed by Sandra Garlick MBE\, just put the details in the notes when you order. \n  \n \nDelivered in partnership with the Federation of Small Businesses
URL:https://womanwho.co.uk/event/woman-who-inspires-online-network-celebrating-international-womens-day/
CATEGORIES:Networking
LOCATION:https://womanwho.co.uk/event/woman-who-inspires-online-network-celebrating-international-womens-day/
END:VEVENT
BEGIN:VEVENT
DTSTART;TZID=Europe/London:20210201T093000
DTEND;TZID=Europe/London:20210201T110000
DTSTAMP:20260424T162108
CREATED:20201029T104907Z
LAST-MODIFIED:20210107T173927Z
UID:11253-1612171800-1612177200@womanwho.co.uk
SUMMARY:Woman Who Inspires Online Network (February)
DESCRIPTION:Join us at the Woman Who Inspires Online Network event for women in business\nMake new connections\, learn something new and hear great inspirational women in business speakers who will share their business journey. \nPlus you’ll get to network nationwide! \nOur theme this month is Health & Wellbeing. It’s never been more important to look after your health and wellbeing in business. \nHear from our inspirational speaker and woman in business panel about how they look after their health and welling. \nThe online network is open to all women in business\, including those who have taken a career break\, or may be looking for a fresh challenge. Men are also very welcome to attend. \nThere is no membership or criteria to attend. Attendees simply book to attend each event. \n9.30am  Arrival and Small Group Networking\, followed by introductions hosted by Sandra Garlick MBE\, Founder of Woman Who\, Speaker and Author. \n9.45am  Welcome and Introductions \n10.00am Women in Business Speakers. Our keynote speaker will share elements of her personal journey in business including the challenges she has faced and how she overcome them\, plus her top tips around health and wellbeing. \nYou will be inspired and also learn something new to power up your personal brand to grow your business: \nFeature Keynotes: \nTracy Richardson\, Hybrid Therapy UK \nWomen in Business Panel: Angie Simmons\, Jenni Harris and Ali Fleming \n10.30am Learn something new \nThere will be a chance to post your social links in the chat box. \n11.00am Close \n \nDelivered in partnership with the Federation of Small Businesses
URL:https://womanwho.co.uk/event/woman-who-inspires-online-network-february/
CATEGORIES:Networking
LOCATION:https://womanwho.co.uk/event/woman-who-inspires-online-network-february/
END:VEVENT
BEGIN:VEVENT
DTSTART;TZID=Europe/London:20210111T093000
DTEND;TZID=Europe/London:20210111T110000
DTSTAMP:20260424T162108
CREATED:20201029T102046Z
LAST-MODIFIED:20201228T120910Z
UID:11237-1610357400-1610362800@womanwho.co.uk
SUMMARY:Woman Who Inspires Online Network (January)
DESCRIPTION:Join us at the Woman Who Inspires Online Network event for women in business\nMake new connections\, learn something new and hear great inspirational women in business speakers who will share their business journey. \nPlus you’ll get to network nationwide!\nOur theme this month is Goal Setting. Yes\, everyone sets New Year Resolutions but you may want to set some big goals for 2021 as well as a few small ones along the way. Dream big and achieve. \nHear from our inspirational speakers and woman in business panel about their goals and goal setting tips. \nThe online network is open to all women in business\, including those who have taken a career break\, or may be looking for a fresh challenge. Men are also very welcome to attend. \nYou may also be interested in a recent podcast interview with Kevin Brent where Sandra Garlick MBE shares her journey\, her why and more about Woman Who. Listen here… \nThere is no membership or criteria to attend. Attendees simply book to attend each event. \n9.30am  Arrival and Small Group Networking\, followed by introductions hosted by Sandra Garlick MBE\, Founder of Woman Who\, Speaker and Author. \n9.45am  Welcome and Introductions \n10.00am Women in Business Speakers. Each of the keynote speakers will share her personal journey into business including the challenges she has faced\, how she overcome them\, plus her top tips around goal setting. \nYou will be inspired and also learn something new to power up your personal brand to grow your business: \nFeature Keynote: Claire Cahill (Accendo Coaching & Training) and Jenni Harris (Happy Body\, Happy Life) \nAcademy Women in Business Panel: Zoe Russell\, Amanda Harris and Sue Tonks \nThere will be a chance to post your social links in the chat box. \n11.00am Close \n \nDelivered in partnership with the Federation of Small Businesses \n\nRegister Now:
URL:https://womanwho.co.uk/event/woman-who-inspires-online-network-january/
CATEGORIES:Networking,Training
LOCATION:https://womanwho.co.uk/event/woman-who-inspires-online-network-january/
END:VEVENT
BEGIN:VEVENT
DTSTART;TZID=Europe/London:20201207T093000
DTEND;TZID=Europe/London:20201207T110000
DTSTAMP:20260424T162108
CREATED:20201027T162711Z
LAST-MODIFIED:20201202T102042Z
UID:11214-1607333400-1607338800@womanwho.co.uk
SUMMARY:Woman Who Inspires Online Network (December)
DESCRIPTION:Join us at this special Christmas Woman Who Inspires Online Network event for women in business\n  \nFeel free to wear Christmas sparkle\, as this is the last network event of 2020. Woman Who events are very relaxed. \nMake new connections\, learn something new and hear great inspirational women in business speakers who will share their business journey. \nPlus you’ll get to network nationwide! \nOur theme this month is Mindset. Having the right mindset in business is so important. \nThe Woman Who Inspires online network is open to all women in business\, including those who have taken a career break\, or may be looking for a fresh challenge. Quite simply we want you to feel inspired. Men are also very welcome to attend. \nThere is no membership or criteria to attend. Attendees simply book to attend each event. \n9.30am  Arrival and small group Networking \n9.45am  Welcome and Introductions hosted by Sandra Garlick MBE\, Founder of Woman Who\, Speaker and Author. \n10.00am Women in Business Speakers. You’re in for a treat this month as we will hear from inspirational speakers Patricia White (Founder of Suited for Success) and Holly Matthews (Actress and Founder of The Happy Me Project). \nYou will definitely be inspired and also learn something new to power up your personal brand\, get visible and grow your business: \nFeature Keynotes: Patricia White & Holly Matthews \nAcademy Women in Business Panel: Gemma Crofts\, Danielle Fletcher and Claire Cahill. \nThere will be plenty of opportunity to post your social links in the chat box. \n11.00am Close \n			\n			\n				\n				\n				\n				\n			\n				\n				\n				\n				\n				\n				\n				\n				\n				\n				\n				\n			\n			\n				\n				\n				\n				\n				\n				\n				\n				\n				\n				\n			\n			\n				\n				\n				\n				\n			\n				\n				\n				\n				\n				\n				\n				\n				\n				\n				\n				 \nDelivered in partnership with the Federation of Small Businesses \n\n 
URL:https://womanwho.co.uk/event/woman-who-inspires-online-network-december/
CATEGORIES:Networking
ATTACH;FMTTYPE=image/jpeg:https://womanwho.co.uk/wp-content/uploads/2020/08/16B77042-9962-4FE9-B687-A5F325F71BBC.jpeg
LOCATION:https://womanwho.co.uk/event/woman-who-inspires-online-network-december/
END:VEVENT
BEGIN:VEVENT
DTSTART;TZID=Europe/London:20201102T093000
DTEND;TZID=Europe/London:20201102T110000
DTSTAMP:20260424T162108
CREATED:20201012T111100Z
LAST-MODIFIED:20201102T154932Z
UID:11028-1604309400-1604314800@womanwho.co.uk
SUMMARY:Woman Who Inspires Online Network (November)
DESCRIPTION:Join us at the Woman Who Inspires Online Network event for women in business\nMake new connections\, learn something new and hear great inspirational women in business speakers who will share their business journey and their top tips. \nPlus you’ll get to network nationwide. \nThis month you will get to meet some of our recent Award Winners from the Woman Who Achieves Solopreneur Awards 2020 \nOur theme for November is Motivation.\nThings are a little tough for us all right now and we need motivation to keep going. \nThe Woman Who Inspires online network is open to all women in business\, including those who have taken a career break\, on furlough or may be looking for a fresh challenge. Men are also very welcome to attend. \nThere is no membership or criteria to attend. Attendees simply book to attend each event. \n9.30am  Arrival and Zoom Room Networking\, followed by introductions hosted by Sandra Garlick MBE\, Founder of Woman Who\, Speaker and Author. \n9.45am  Welcome and Introductions \n10.00am Women in Business Speakers. \nFeature Speakers: Interview with Sharon Luca-Chatha\, Founder of LK Eco Style and The Luca Foundation and Alison Fleming\, Founder of Cariad Personal Ceremonies and Harmony Glass Experience \nMeet the Winners: Your opportunity to hear from Woman Who Solopreneur Award Winners in interviews hosted by Sandra Garlick MBE. \n10.30am Learn something new \nThere will be a chance to post your social links in the chat box so that you can connect and collaborate. \n11.00am Close \n \nDelivered in partnership with the Federation of Small Businesses
URL:https://womanwho.co.uk/event/woman-who-inspires-online-network-november/
CATEGORIES:Networking,Training
LOCATION:
END:VEVENT
END:VCALENDAR