BEGIN:VCALENDAR
VERSION:2.0
PRODID:-//Woman Who - ECPv6.15.20//NONSGML v1.0//EN
CALSCALE:GREGORIAN
METHOD:PUBLISH
X-ORIGINAL-URL:https://womanwho.co.uk
X-WR-CALDESC:Events for Woman Who
REFRESH-INTERVAL;VALUE=DURATION:PT1H
X-Robots-Tag:noindex
X-PUBLISHED-TTL:PT1H
BEGIN:VTIMEZONE
TZID:Europe/London
BEGIN:DAYLIGHT
TZOFFSETFROM:+0000
TZOFFSETTO:+0100
TZNAME:BST
DTSTART:20220327T010000
END:DAYLIGHT
BEGIN:STANDARD
TZOFFSETFROM:+0100
TZOFFSETTO:+0000
TZNAME:GMT
DTSTART:20221030T010000
END:STANDARD
BEGIN:DAYLIGHT
TZOFFSETFROM:+0000
TZOFFSETTO:+0100
TZNAME:BST
DTSTART:20230326T010000
END:DAYLIGHT
BEGIN:STANDARD
TZOFFSETFROM:+0100
TZOFFSETTO:+0000
TZNAME:GMT
DTSTART:20231029T010000
END:STANDARD
BEGIN:DAYLIGHT
TZOFFSETFROM:+0000
TZOFFSETTO:+0100
TZNAME:BST
DTSTART:20240331T010000
END:DAYLIGHT
BEGIN:STANDARD
TZOFFSETFROM:+0100
TZOFFSETTO:+0000
TZNAME:GMT
DTSTART:20241027T010000
END:STANDARD
END:VTIMEZONE
BEGIN:VEVENT
DTSTART;TZID=Europe/London:20230605T093000
DTEND;TZID=Europe/London:20230605T103000
DTSTAMP:20260422T065959
CREATED:20221208T220513Z
LAST-MODIFIED:20221209T003247Z
UID:23253-1685957400-1685961000@womanwho.co.uk
SUMMARY:Woman Who Inspires Online Network (Leadership)
DESCRIPTION:Join us for our monthly online networking event—each month Woman Who hosts the Woman Who Inspires Online Network. \nWoman Who events are relaxed and timed precisely to fit around your caring responsibilities. There is no membership required and no exclusions. Everyone is welcome; employed\, self-employed\, and of course men in business are welcome too. \nAs always with Woman Who events\, there will be networking\, an inspirational speaker\, and learning and this month’s theme is all about Leadership \nSimply register to attend.
URL:https://womanwho.co.uk/event/woman-who-inspires-online-network-leadership/
CATEGORIES:Learning,Networking
LOCATION:https://womanwho.co.uk/event/woman-who-inspires-online-network-leadership/
END:VEVENT
END:VCALENDAR