BEGIN:VCALENDAR
VERSION:2.0
PRODID:-//Woman Who - ECPv6.15.20//NONSGML v1.0//EN
CALSCALE:GREGORIAN
METHOD:PUBLISH
X-ORIGINAL-URL:https://womanwho.co.uk
X-WR-CALDESC:Events for Woman Who
REFRESH-INTERVAL;VALUE=DURATION:PT1H
X-Robots-Tag:noindex
X-PUBLISHED-TTL:PT1H
BEGIN:VTIMEZONE
TZID:Europe/London
BEGIN:DAYLIGHT
TZOFFSETFROM:+0000
TZOFFSETTO:+0100
TZNAME:BST
DTSTART:20220327T010000
END:DAYLIGHT
BEGIN:STANDARD
TZOFFSETFROM:+0100
TZOFFSETTO:+0000
TZNAME:GMT
DTSTART:20221030T010000
END:STANDARD
BEGIN:DAYLIGHT
TZOFFSETFROM:+0000
TZOFFSETTO:+0100
TZNAME:BST
DTSTART:20230326T010000
END:DAYLIGHT
BEGIN:STANDARD
TZOFFSETFROM:+0100
TZOFFSETTO:+0000
TZNAME:GMT
DTSTART:20231029T010000
END:STANDARD
BEGIN:DAYLIGHT
TZOFFSETFROM:+0000
TZOFFSETTO:+0100
TZNAME:BST
DTSTART:20240331T010000
END:DAYLIGHT
BEGIN:STANDARD
TZOFFSETFROM:+0100
TZOFFSETTO:+0000
TZNAME:GMT
DTSTART:20241027T010000
END:STANDARD
END:VTIMEZONE
BEGIN:VEVENT
DTSTART;TZID=Europe/London:20231107T190000
DTEND;TZID=Europe/London:20231107T194500
DTSTAMP:20260426T003012
CREATED:20210614T201634Z
LAST-MODIFIED:20231104T153329Z
UID:15836-1699383600-1699386300@womanwho.co.uk
SUMMARY:Let's Get Visible: Visibility Masterclass
DESCRIPTION:Woman Who is all about helping you to power up your personal brand and get visible. \n  \nIt’s tough out there right now and you want to be as visible as possible. Are you the world’s best kept secret? \n  \nIn this Let’s Get Visible: Visibility Masterclass\, we will explore many ways to get visible. You want to be found\, you want to be visible\, and you want to be remembered for all the right reasons. How to you become the ‘go to’ person in your niche? \n  \nJoin Sandra Garlick MBE for this interactive workshop and networking. Sandra will share how she maintains her visibility and appears to be everywhere\, without being everywhere. \n  \nSimply register to attend
URL:https://womanwho.co.uk/event/lets-get-visible-visibility-workshop/
CATEGORIES:Networking,Training
LOCATION:https://womanwho.co.uk/event/lets-get-visible-visibility-workshop/
END:VEVENT
END:VCALENDAR